BEGIN:VCALENDAR
VERSION:2.0
PRODID:icalendar-ruby
CALSCALE:GREGORIAN
METHOD:PUBLISH
BEGIN:VEVENT
DTSTAMP:20260422T095137Z
UID:5-402568@lisbonumc.org
DTSTART:20260628T143000Z
DTEND:20260628T153000Z
CLASS:PUBLIC
CREATED:20260421T212626
DESCRIPTION:Sunday Worship
LAST-MODIFIED:20260421T212626
LOCATION:
SUMMARY:Sunday Worship
URL;VALUE=URI:https://www.lisbonumc.org/events/sunday-worship/2026-06-28
END:VEVENT
END:VCALENDAR
